BEGIN:VCALENDAR
VERSION:2.0
PRODID:-//MAPS - ECPv6.15.18//NONSGML v1.0//EN
CALSCALE:GREGORIAN
METHOD:PUBLISH
X-ORIGINAL-URL:https://mapsnh.org
X-WR-CALDESC:Events for MAPS
REFRESH-INTERVAL;VALUE=DURATION:PT1H
X-Robots-Tag:noindex
X-PUBLISHED-TTL:PT1H
BEGIN:VTIMEZONE
TZID:America/Indiana/Indianapolis
BEGIN:DAYLIGHT
TZOFFSETFROM:-0500
TZOFFSETTO:-0400
TZNAME:EDT
DTSTART:20240310T070000
END:DAYLIGHT
BEGIN:STANDARD
TZOFFSETFROM:-0400
TZOFFSETTO:-0500
TZNAME:EST
DTSTART:20241103T060000
END:STANDARD
BEGIN:DAYLIGHT
TZOFFSETFROM:-0500
TZOFFSETTO:-0400
TZNAME:EDT
DTSTART:20250309T070000
END:DAYLIGHT
BEGIN:STANDARD
TZOFFSETFROM:-0400
TZOFFSETTO:-0500
TZNAME:EST
DTSTART:20251102T060000
END:STANDARD
BEGIN:DAYLIGHT
TZOFFSETFROM:-0500
TZOFFSETTO:-0400
TZNAME:EDT
DTSTART:20260308T070000
END:DAYLIGHT
BEGIN:STANDARD
TZOFFSETFROM:-0400
TZOFFSETTO:-0500
TZNAME:EST
DTSTART:20261101T060000
END:STANDARD
END:VTIMEZONE
BEGIN:VEVENT
DTSTART;VALUE=DATE:20250513
DTEND;VALUE=DATE:20250514
DTSTAMP:20260424T070438
CREATED:20250428T173317Z
LAST-MODIFIED:20250428T173317Z
UID:2009-1747094400-1747180799@mapsnh.org
SUMMARY:Tuesday Mental Health Info
DESCRIPTION:Supporting Your Own Mental Health: Ongoing Care and Wellbeing \nMental health care isn’t just something we turn to during times of crisis — it’s a lifelong\, vital part of overall wellbeing. Just like we care for our physical health by eating nourishing foods\, staying active\, or visiting a doctor when needed\, mental health thrives when we tend to it consistently and with care. \nEven when things are going well\, small\, steady habits can help maintain mental health gains\, strengthen resilience\, and create a foundation for navigating future challenges. \nWays to Care for Your Mental Health: \n• Prioritize regular sleep\, balanced nutrition\, and movement (as your body is able and in ways you enjoy). \n• Practice mindfulness\, meditation\, prayer\, or relaxation techniques to help anchor you in the present moment. \n• Make space for friendships\, hobbies\, laughter\, and rest — they’re essential\, not optional. \n• Continue therapy\, medication\, peer support\, or self-care routines even after major symptoms improve. Maintenance is progress. \n• Set healthy boundaries around work\, technology\, and relationships to protect your energy. \n• Engage in creative expression — art\, music\, writing\, crafts — as a way to explore emotions and reconnect with joy. \n• Spend time outdoors when possible\, even briefly — nature has a grounding\, restorative effect. \n• Reflect periodically on your needs and goals — mental health care evolves with you over time. \n• Celebrate small wins and moments of growth\, even if they seem minor. Progress is not always loud. \n• Seek help early if you notice warning signs returning — early support can prevent deeper struggles. \nRemember: Ongoing mental health care is not a sign of weakness — it’s a sign of strength\, self-awareness\, and self-respect. Tending to your wellbeing is an act of courage and love\, both for yourself and for those around you. You are worth the time and care it takes. \n  \nPlease make a donation to the Hope and Healing Fund at Online Donation Form – MAPS!
URL:https://mapsnh.org/event/tuesday-mental-health-info-2/
END:VEVENT
END:VCALENDAR