BEGIN:VCALENDAR
VERSION:2.0
PRODID:-//MAPS - ECPv6.15.18//NONSGML v1.0//EN
CALSCALE:GREGORIAN
METHOD:PUBLISH
X-WR-CALNAME:MAPS
X-ORIGINAL-URL:https://mapsnh.org
X-WR-CALDESC:Events for MAPS
REFRESH-INTERVAL;VALUE=DURATION:PT1H
X-Robots-Tag:noindex
X-PUBLISHED-TTL:PT1H
BEGIN:VTIMEZONE
TZID:America/Indiana/Indianapolis
BEGIN:DAYLIGHT
TZOFFSETFROM:-0500
TZOFFSETTO:-0400
TZNAME:EDT
DTSTART:20220313T070000
END:DAYLIGHT
BEGIN:STANDARD
TZOFFSETFROM:-0400
TZOFFSETTO:-0500
TZNAME:EST
DTSTART:20221106T060000
END:STANDARD
BEGIN:DAYLIGHT
TZOFFSETFROM:-0500
TZOFFSETTO:-0400
TZNAME:EDT
DTSTART:20230312T070000
END:DAYLIGHT
BEGIN:STANDARD
TZOFFSETFROM:-0400
TZOFFSETTO:-0500
TZNAME:EST
DTSTART:20231105T060000
END:STANDARD
BEGIN:DAYLIGHT
TZOFFSETFROM:-0500
TZOFFSETTO:-0400
TZNAME:EDT
DTSTART:20240310T070000
END:DAYLIGHT
BEGIN:STANDARD
TZOFFSETFROM:-0400
TZOFFSETTO:-0500
TZNAME:EST
DTSTART:20241103T060000
END:STANDARD
END:VTIMEZONE
BEGIN:VEVENT
DTSTART;TZID=America/Indiana/Indianapolis:20231208T160000
DTEND;TZID=America/Indiana/Indianapolis:20231208T180000
DTSTAMP:20260422T085900
CREATED:20231201T220125Z
LAST-MODIFIED:20231201T220125Z
UID:1654-1702051200-1702058400@mapsnh.org
SUMMARY:Find Peace and Joy with Yoga Nidra
DESCRIPTION:
URL:https://mapsnh.org/event/find-peace-and-joy-with-yoga-nidra/
LOCATION:Aloha Keene\, 83 Court street\, Keene\, 03431
END:VEVENT
END:VCALENDAR