BEGIN:VCALENDAR
VERSION:2.0
PRODID:-//MAPS - ECPv6.15.18//NONSGML v1.0//EN
CALSCALE:GREGORIAN
METHOD:PUBLISH
X-WR-CALNAME:MAPS
X-ORIGINAL-URL:https://mapsnh.org
X-WR-CALDESC:Events for MAPS
REFRESH-INTERVAL;VALUE=DURATION:PT1H
X-Robots-Tag:noindex
X-PUBLISHED-TTL:PT1H
BEGIN:VTIMEZONE
TZID:America/Indiana/Indianapolis
BEGIN:DAYLIGHT
TZOFFSETFROM:-0500
TZOFFSETTO:-0400
TZNAME:EDT
DTSTART:20240310T070000
END:DAYLIGHT
BEGIN:STANDARD
TZOFFSETFROM:-0400
TZOFFSETTO:-0500
TZNAME:EST
DTSTART:20241103T060000
END:STANDARD
BEGIN:DAYLIGHT
TZOFFSETFROM:-0500
TZOFFSETTO:-0400
TZNAME:EDT
DTSTART:20250309T070000
END:DAYLIGHT
BEGIN:STANDARD
TZOFFSETFROM:-0400
TZOFFSETTO:-0500
TZNAME:EST
DTSTART:20251102T060000
END:STANDARD
BEGIN:DAYLIGHT
TZOFFSETFROM:-0500
TZOFFSETTO:-0400
TZNAME:EDT
DTSTART:20260308T070000
END:DAYLIGHT
BEGIN:STANDARD
TZOFFSETFROM:-0400
TZOFFSETTO:-0500
TZNAME:EST
DTSTART:20261101T060000
END:STANDARD
END:VTIMEZONE
BEGIN:VEVENT
DTSTART;TZID=America/Indiana/Indianapolis:20250528T180000
DTEND;TZID=America/Indiana/Indianapolis:20250528T193000
DTSTAMP:20260422T073407
CREATED:20250415T174808Z
LAST-MODIFIED:20250423T154224Z
UID:1954-1748455200-1748460600@mapsnh.org
SUMMARY:Trauma Informed Care Panel Discussion
DESCRIPTION:Please join the Trauma Informed Care committee of Maps Counseling Services for a lively panel discussion about everything trauma informed. The panel includes Cl Nightingale\, LMFT\, Sadie Homeier\, LICSW\, and Sarah Goldsmith\, LCMHC who each bring their unique clinical lens to discuss trauma informed care topics\, answer questions\, and provide helpful tips on what to look for when seeking mental health treatment in a safe and inclusive environment. This discussion is meant to be an open forum to talk about what trauma informed care is\, how to spot it\, and how to embody it. \n  \nPlease REGISTER at Registration for Trauma Informed Care Panel Discussion – MAPS! \n  \n \n  \n  \n  \n 
URL:https://mapsnh.org/event/052825/
LOCATION:United Church of Christ\, 23 Central Square\, Keene\, NH\, 03431\, United States
END:VEVENT
BEGIN:VEVENT
DTSTART;TZID=America/Indiana/Indianapolis:20250517T090000
DTEND;TZID=America/Indiana/Indianapolis:20250517T110000
DTSTAMP:20260422T073407
CREATED:20250414T195014Z
LAST-MODIFIED:20250423T160043Z
UID:1941-1747472400-1747479600@mapsnh.org
SUMMARY:Creative Play ... it's fun and good for you!
DESCRIPTION:Please REGISTER at Registration for Creative Play Workshop – MAPS! \n  \n \n  \nCreativity is one of the 10 life skills advocated by the World Health Organization (WHO). It is a part of our drive as humans — fostering resilience\, sparking joy\, and providing a sense of well-being. This 2 hour creative workshop is designed to provide as much or as little direction as you need to jump in and play and experiment with ideas\, materials\, mediums\, colors and textures whether that be through the medium of collage\, painting\, drawing\, or simple mark making. We will have everything you need to play and explore… paint\, paper\, brushes\, glue\, markers and all manner of ephemera. \n  \nFacilitated by Kelly Lynch\, graphic designer\, creative director and author of The Vintage Postcard Collage Kit published by Storey Publishing as well as The Art Lover’s Sticker Book published by Workman Publishing and releasing this fall.
URL:https://mapsnh.org/event/051725/
LOCATION:United Church of Christ\, 23 Central Square\, Keene\, NH\, 03431\, United States
END:VEVENT
BEGIN:VEVENT
DTSTART;TZID=America/Indiana/Indianapolis:20250502T190000
DTEND;TZID=America/Indiana/Indianapolis:20250502T210000
DTSTAMP:20260422T073407
CREATED:20250414T160011Z
LAST-MODIFIED:20250418T164756Z
UID:1923-1746212400-1746219600@mapsnh.org
SUMMARY:Community Family Game Night
DESCRIPTION:Join us for an evening of games\, snacks\, and community connection at our Family Game Night! \nWe’ll have a variety of games for all ages—whether you love classic board games\, card games\, or something new. \nFamilies are also welcome to bring a favorite game from home to share. \nGames provided. Snacks provided. Community provided. Just bring yourself and your playful spirit! \n  \nThis free event is sponsored by Savings Bank of Walpole and celebrate the joy and importance of coming together. Taking time to play\, laugh\, and connect with others is a powerful way to support mental health—for both kids and adults. \n  \nPlease REGISTER for this event at Registration for Community Family Game Night – MAPS! \n  \n  \nSponsored By:
URL:https://mapsnh.org/event/050225/
LOCATION:United Church of Christ\, 23 Central Square\, Keene\, NH\, 03431\, United States
END:VEVENT
END:VCALENDAR